BEGIN:VCALENDAR
VERSION:2.0
PRODID:-//Pilgrim Theological College - ECPv6.15.15//NONSGML v1.0//EN
CALSCALE:GREGORIAN
METHOD:PUBLISH
X-ORIGINAL-URL:https://pilgrim.edu.au
X-WR-CALDESC:Events for Pilgrim Theological College
REFRESH-INTERVAL;VALUE=DURATION:PT1H
X-Robots-Tag:noindex
X-PUBLISHED-TTL:PT1H
BEGIN:VTIMEZONE
TZID:Australia/Melbourne
BEGIN:STANDARD
TZOFFSETFROM:+1100
TZOFFSETTO:+1000
TZNAME:AEST
DTSTART:20250405T160000
END:STANDARD
BEGIN:DAYLIGHT
TZOFFSETFROM:+1000
TZOFFSETTO:+1100
TZNAME:AEDT
DTSTART:20251004T160000
END:DAYLIGHT
BEGIN:STANDARD
TZOFFSETFROM:+1100
TZOFFSETTO:+1000
TZNAME:AEST
DTSTART:20260404T160000
END:STANDARD
BEGIN:DAYLIGHT
TZOFFSETFROM:+1000
TZOFFSETTO:+1100
TZNAME:AEDT
DTSTART:20261003T160000
END:DAYLIGHT
BEGIN:STANDARD
TZOFFSETFROM:+1100
TZOFFSETTO:+1000
TZNAME:AEST
DTSTART:20270403T160000
END:STANDARD
BEGIN:DAYLIGHT
TZOFFSETFROM:+1000
TZOFFSETTO:+1100
TZNAME:AEDT
DTSTART:20271002T160000
END:DAYLIGHT
BEGIN:STANDARD
TZOFFSETFROM:+1100
TZOFFSETTO:+1000
TZNAME:AEST
DTSTART:20280401T160000
END:STANDARD
BEGIN:DAYLIGHT
TZOFFSETFROM:+1000
TZOFFSETTO:+1100
TZNAME:AEDT
DTSTART:20280930T160000
END:DAYLIGHT
END:VTIMEZONE
BEGIN:VEVENT
DTSTART;TZID=Australia/Melbourne:20260211T120000
DTEND;TZID=Australia/Melbourne:20260213T160000
DTSTAMP:20260421T160148
CREATED:20251218T234132Z
LAST-MODIFIED:20251218T235515Z
UID:3158-1770811200-1770998400@pilgrim.edu.au
SUMMARY:Conference on Gendered Violence\, Pilgrim/Wesley Centre conference
DESCRIPTION:Event description\n\nMonday 11 February to Wednesday 13 February \nWesley Centre for Ethics\, Theology and Public Policy\, with sponsorship from Pilgrim Theological College\, is running this timely conference to explore ways religion\, theology\, and culture contribute to—or help combat—gendered violence. This interdisciplinary conference will investigate the intersections of theology\, biblical interpretation\, culture\, sexism\, colonialism\, and justice. Together\, we’ll ask hard questions about gendered violence and explore resources for healing\, inclusion\, and change. In-person registrations for this event are now booked out\, however some of the sessions will be made available to view online. \nGet tickets here
URL:https://pilgrim.edu.au/event/conference-on-gendered-violence-pilgrim-wesley-centre-conference/
CATEGORIES:Public event
ATTACH;FMTTYPE=image/jpeg:https://pilgrim.edu.au/wp-content/uploads/2025/12/Conference-on-Gendered-Violence.jpg
END:VEVENT
BEGIN:VEVENT
DTSTART;TZID=Australia/Melbourne:20260217T093000
DTEND;TZID=Australia/Melbourne:20260217T130000
DTSTAMP:20260421T160148
CREATED:20251218T235758Z
LAST-MODIFIED:20251218T235937Z
UID:3164-1771320600-1771333200@pilgrim.edu.au
SUMMARY:Ministry and Mission Day - opening the year at the CTM
DESCRIPTION:Event description\n\nTuesday 17 February\, 9.30 am – 1 pm  \nThis event marks the opening of the academic year for Pilgrim Theological College and includes the Synod’s induction of Rev Professor Kylie Crabbe as Head of College. We begin the day at 9.30 am with a smoking ceremony and Welcome to Country. The worship service at 10 am will feature preacher Rev Dr Vicky Balabanski\, Principal at Uniting College for Leadership & Theology\, Adelaide. At 11.30 am Kylie Crabbe will deliver her inaugural lecture as Professor.
URL:https://pilgrim.edu.au/event/ministry-and-mission-day-opening-the-year-at-the-ctm/
CATEGORIES:Public event
ATTACH;FMTTYPE=image/jpeg:https://pilgrim.edu.au/wp-content/uploads/2025/12/Ministry-and-Mission-Day.jpg
END:VEVENT
BEGIN:VEVENT
DTSTART;TZID=Australia/Melbourne:20260226T190000
DTEND;TZID=Australia/Melbourne:20260226T213000
DTSTAMP:20260421T160148
CREATED:20251219T000434Z
LAST-MODIFIED:20260203T044220Z
UID:3167-1772132400-1772141400@pilgrim.edu.au
SUMMARY:Northey Lecture: Dr Laura Rademaker and Poetry Reading: Alison Overeem
DESCRIPTION:Event description\n\nNorthey Lecture – ‘Providence and possession: how colonial concepts of religion explained away a genocide’\nThis two-part event begins at 7pm Thursday 26 February at Pilgrim Theological College. \nSupper is provided. All welcome! Join in person or online. \nRegister online here \nAcknowledgement of Country and Poetry Reading by Alison Overeem (Uniting Aboriginal and Islander Christian Congress\, Tasmania)\n \nAlison is a proud palawa woman and Leprena Centre Manager (UAICC). Leprena is a lead provider of cultural and spiritual learning and immersion\, uniting First and Second Peoples through Tasmanian Aboriginal culture\, and the National UAICC story\, across the nation. Alison will share a poem with us and lead us in an Acknowledgement of Country. \nNorthey Lecture: ‘Providence and possession: how colonial concepts of religion explained away a genocide’ by Associate Professor Laura Rademaker (Australian National University)\n \nWhen settlers came to Australia\, many believed in a God-given duty to “fill'” and “subdue the earth” through agriculture and the supposed failure of First Nations people to do this. But the colonists also drew on other religious and biblical ideas to frame themselves in relation to First Nations people.  This lecture will trace the ways that First Nations people’s supposed “forgetting” of true religion was used to excuse the rapid First Nations population decline\, and the implications of this history for us today. \nThis lecture will also be part of the Pilgrim unit\, Respecting Country: Deep history\, the colonies and the church \nContact us to enrol in the unit – study@pilgrim.edu.au  
URL:https://pilgrim.edu.au/event/northey-lecture-dr-laura-rademaker-and-alison-overeem/
CATEGORIES:Northey Lectures
ATTACH;FMTTYPE=image/png:https://pilgrim.edu.au/wp-content/uploads/2025/12/Banner-scaled.png
END:VEVENT
BEGIN:VEVENT
DTSTART;VALUE=DATE:20260409
DTEND;VALUE=DATE:20260412
DTSTAMP:20260421T160148
CREATED:20251219T000624Z
LAST-MODIFIED:20260318T040900Z
UID:3170-1775692800-1775951999@pilgrim.edu.au
SUMMARY:Talanoa Oceania
DESCRIPTION:Event description\n\nThursday 9 April to Saturday 11 April\nTalanoa 2026 will be a platform for folx to talanoa (tell storied realities\, invite conversations\, explore ways forward) around the “arts of negotiation” in/from their life situations\, and to unpack the “gifts in negotiation” for their communities and for the rest of us. \nThe theme for this conference is “negotiation\,” and there will be keynotes (2)\, presentations (24)\, and panels (4). The keynotes will address “Indigenous justice” (from UAICC) and “Migration and Climate justice” (MP Anasina Gray-Barberio). \nThe presentations will address topics in the general areas of Pasifika cultures\, theology\, bible\, climate justice\, pastoral care\, CPE\, art\, queer\, decolonization\, gender justice\, youth justice\, and more. The panels will be on “Justice matters\,” “Negotiating identities in diaspora\,” “Raising families in diaspora\,” and “Youth matter!” \nRegistration link: https://events.humanitix.com/talanoa-2026/tickets \nThursday\, 9 April 12pm–8pm\nCanterbury Balwyn Uniting Church\n15A Balwyn Rd\, Canterbury 3126 \nFriday\, 10 April 9am–8pm\nCentre for Theology and Ministry\n29 College Crescent\, Parkville 3052 \nSaturday\, 11 April 9am–4pm\nCentre for Theology and Ministry\n29 College Crescent\, Parkville 3052 \nCost\nRegistration fee includes conference materials and meals. \nFull cost $ 120 \nStudent $ 50 \n14yo and under $ 1 \nRegistration link: https://events.humanitix.com/talanoa-2026/tickets
URL:https://pilgrim.edu.au/event/talanoa-oceania/
LOCATION:Centre for Theology & Ministry\, 29 College Cres\, Parkville\, VIC\, 3052\, Australia
CATEGORIES:Public event
ATTACH;FMTTYPE=image/jpeg:https://pilgrim.edu.au/wp-content/uploads/2025/09/260226-eLM-Talanoa-2026-Banner.jpg
END:VEVENT
BEGIN:VEVENT
DTSTART;VALUE=DATE:20260904
DTEND;VALUE=DATE:20270608
DTSTAMP:20260421T160148
CREATED:20251219T000744Z
LAST-MODIFIED:20251219T000846Z
UID:3173-1788480000-1812412799@pilgrim.edu.au
SUMMARY:National Lay Preachers Conference
DESCRIPTION:Event description\n\nFriday 4 September to Sunday 6 September \nThe Victoria Tasmania Lay Preachers Association is hosting this conference focused on the Assembly theme\, Threads of Love: Weaving Christ’s love across cultures and boundaries.
URL:https://pilgrim.edu.au/event/national-lay-preachers-conference/
CATEGORIES:Public event
ATTACH;FMTTYPE=image/jpeg:https://pilgrim.edu.au/wp-content/uploads/2025/12/National-Lay-Preachers-Conference.jpg
END:VEVENT
END:VCALENDAR